BEGIN:VCALENDAR
VERSION:2.0
PRODID:-//Shiva Shambho - ECPv6.15.11//NONSGML v1.0//EN
CALSCALE:GREGORIAN
METHOD:PUBLISH
X-WR-CALNAME:Shiva Shambho
X-ORIGINAL-URL:https://shivashambho.org
X-WR-CALDESC:Eventos para Shiva Shambho
REFRESH-INTERVAL;VALUE=DURATION:PT1H
X-Robots-Tag:noindex
X-PUBLISHED-TTL:PT1H
BEGIN:VTIMEZONE
TZID:America/Mexico_City
BEGIN:STANDARD
TZOFFSETFROM:-0600
TZOFFSETTO:-0600
TZNAME:CST
DTSTART:20240101T000000
END:STANDARD
END:VTIMEZONE
BEGIN:VEVENT
DTSTART;TZID=America/Mexico_City:20251110T100000
DTEND;TZID=America/Mexico_City:20251116T023000
DTSTAMP:20260425T220502
CREATED:20251024T113247Z
LAST-MODIFIED:20251024T170356Z
UID:10451-1762768800-1763260200@shivashambho.org
SUMMARY:Próximo Evento Cholula\, México - Noviembre 2025
DESCRIPTION:Celebramos los 40 años del Ministerio de Bhagavan Sri Shiva Shambho. \nEl encuentro comienza el lunes 10 por la mañana y finaliza el domingo 16 al medio día. \n(Los días 14\, 15 y 16 serán en el marco del «retiro de silencio») \n\n\n\n\n\n\n+ INFO: PÁGINA DEL EVENTO \n\n\n\n\n\n\nCOMPRAR
URL:https://shivashambho.org/evento/evento-cholula-mexico-noviembre-2025/
LOCATION:Jardin de Shiva Cholula\, Puebla\, Mexico.\, Puebla\, Mexico
CATEGORIES:Eventos
ATTACH;FMTTYPE=image/webp:https://shivashambho.org/wp-content/uploads/2025/10/nggallery_import/2-SHIVA-6.webp
END:VEVENT
END:VCALENDAR