BEGIN:VCALENDAR
VERSION:2.0
PRODID:-//Shiva Shambho - ECPv6.15.11//NONSGML v1.0//EN
CALSCALE:GREGORIAN
METHOD:PUBLISH
X-ORIGINAL-URL:https://shivashambho.org
X-WR-CALDESC:Eventos para Shiva Shambho
REFRESH-INTERVAL;VALUE=DURATION:PT1H
X-Robots-Tag:noindex
X-PUBLISHED-TTL:PT1H
BEGIN:VTIMEZONE
TZID:America/Mexico_City
BEGIN:STANDARD
TZOFFSETFROM:-0600
TZOFFSETTO:-0600
TZNAME:CST
DTSTART:20250101T000000
END:STANDARD
END:VTIMEZONE
BEGIN:VEVENT
DTSTART;TZID=America/Mexico_City:20260321T103000
DTEND;TZID=America/Mexico_City:20260322T143000
DTSTAMP:20260425T220619
CREATED:20260216T214009Z
LAST-MODIFIED:20260423T161429Z
UID:10661-1774089000-1774189800@shivashambho.org
SUMMARY:Satsang con Bhagavan Sri Shiva Shambho
DESCRIPTION:Encuentro con tu Verdadero Ser \n\n\n\nTe invitamos a participar en este Satsang en línea\, que se llevará a cabo el 21 y 22 de marzo\, de 10:30 a 2:30 pm (hora Mexicana)\, vía Zoom. \n\n\n\nSatsang es un espacio de preguntas y respuestas que nos invita a la autoindagación de lo que somos en esencia\, permitiendo que se disuelva la identificación con todo aquello que no es nuestro verdadero Ser. \n\n\n\nSi tienes cualquier duda\, contacto con info@shivashambho.org \n\n\n\nInversión en función de la divisa: $2\,500 MXN / $140 USD / 120 EUR \n\n\n\nImportante: Si realizas el pago en Euros o vía Transferencia\, es indispensable enviar tu comprobante a: \n\n\n\n📩 info@shivashambho.org \n\n\n\n\n\n\nPago en Dólares ($140 USD)\n\n\n\n\n\n\n\nPago en Euros (120 EUR)\n\n\n\n\n\n\n \n\n\n\nSi prefieres hacer una transferencia\, usa la siguiente información: \n\n\n\nTransferencia Interbancaria (México)Banco: ScotiabankClabe interbancaria: 044650256008376514A nombre de: ENSEÚANZA SHIVA SHAMBHO AC  \n\n\n\nTransferencia InternacionalABA SWIFT: MBCOMXMMSucursal: 036013Dirección: Av. Teziutlan Norte 90\, La Paz. 72160 Puebla\, Pue. Mexico
URL:https://shivashambho.org/evento/satsang-con-bhagavan-sri-shiva-shambho/
CATEGORIES:Eventos
ATTACH;FMTTYPE=image/png:https://shivashambho.org/wp-content/uploads/2026/02/SATSANG-en-linea-Marzo-2026.png
END:VEVENT
BEGIN:VEVENT
DTSTART;TZID=America/Mexico_City:20260923T150000
DTEND;TZID=America/Mexico_City:20260927T143000
DTSTAMP:20260425T220619
CREATED:20260417T170244Z
LAST-MODIFIED:20260417T202832Z
UID:10951-1790175600-1790519400@shivashambho.org
SUMMARY:Encuentro con Shiva Shambho en España. Septiembre 2026
DESCRIPTION:Bhagavan Sri Shiva Shambho regresa a España después de 5 años. \n\n\n\nEn este encuentro estarás en la presencia del Maestro\, recibiendo directamente su enseñanza. \n\n\n\nUna experiencia única donde la Palabra Viva de un Avatar y su Presencia alumbran nuestras vidas. \n\n\n\n\n\n\n\n\nConoce Más\n\n\n\n\n\n\n\n\n\nComprar
URL:https://shivashambho.org/evento/encuentro-con-shiva-shambho-en-espana-septiembre-2026/
CATEGORIES:Eventos
ATTACH;FMTTYPE=image/jpeg:https://shivashambho.org/wp-content/uploads/2025/05/despiertaOnline-rotated.jpg
END:VEVENT
END:VCALENDAR